Workbook
Name ______________BLK2: #REF!
Name ______________BLK2: #REF!
Name ______________BLK2: #REF!
Name ______________FIT1: #REF!
Name ______________FIT1: #REF!
Name ______________MS2: #REF!
Name _____________BLK1: #REF!
Name _____________BLK1: #REF!
Name _____________BLK1: #REF!
Name _____________BLK2: #REF!
Name _____________BLK2: #REF!
Name _____________BLK2: #REF!
Name _____________FIT1: #REF!
Name _____________FIT1: #REF!
Name _____________FIT1: #REF!
Name _____________FIT2: #REF!
Name _____________FIT2: #REF!
Name _____________MS2: #REF!
Name ____________BLK1: #REF!
Name ____________BLK1: #REF!
Name ____________BLK1: #REF!
Name ____________BLK2: #REF!
Name ____________BLK2: #REF!
Name ____________BLK2: #REF!
Name ____________FIT1: #REF!
Name ____________FIT1: #REF!
Name ____________FIT1: #REF!
Name ____________FIT2: #REF!
Name ____________FIT2: #REF!
Name ____________MS2: #REF!
Name ___________BLK1: #REF!
Name ___________BLK1: #REF!
Name ___________BLK1: #REF!
Name ___________BLK2: #REF!
Name ___________BLK2: #REF!
Name ___________BLK2: #REF!
Name ___________FIT1: #REF!
Name ___________FIT1: #REF!
Name ___________FIT1: #REF!
Name ___________FIT2: #REF!
Name ___________FIT2: #REF!
Name ___________MS2: #REF!
Name __________BLK1: #REF!
Name __________BLK1: #REF!
Name __________BLK1: #REF!
Name __________BLK2: #REF!
Name __________BLK2: #REF!
Name __________BLK2: #REF!
Name __________FIT1: #REF!
Name __________FIT1: #REF!
Name __________FIT1: #REF!
Name __________FIT2: #REF!
Name __________FIT2: #REF!
Name __________MS2: #REF!
Name _________BLK1: #REF!
Name _________BLK1: #REF!
Name _________BLK1: #REF!
Name _________BLK2: #REF!
Name _________BLK2: #REF!
Name _________BLK2: #REF!

Sheet Abstract
A1: M/s
A2: Address
A3: GST
A7: LSS_Bill of Quantities_Renovation of GD_Phase 2 (Winter)_16.10.2026
A9: Sr. No. | B9: Item Description | C9: Unit | D9: Quantity | E9: Rate | F9: Amount | G9: Reference
B11: A.Dismantling & Demolishing
A13: A1 | B13: Demolishing cement concrete manually/ by mechanical means including disposal of material within 50 metres lead as per direction of Engineer - in - charge. | C13: cum | D13: ='Measurement Sheet'!G23 -> 14.997821 | F13: =D13*E13 -> 0
A14: A2 | B14: Dismantling tile work in floors and roofs laid in cement mortar including stacking material within 50 metres lead. For thickness of tiles 10 mm to 25 mm | C14: sqm | D14: ='Measurement Sheet'!G42 -> 55.000649 | F14: =D14*E14 -> 0
A15: A3 | B15: Demolishing R.C.C. work manually/ by mechanical means including stacking of steel bars and disposal of unserviceable material within 50 metres lead as per direction of Engineer - in- charge. | C15: cum | D15: ='Measurement Sheet'!G46 -> 2 | F15: =D15*E15 -> 0
A16: A4 | B16: Dismantling roofing including ridges, hips, valleys and gutters etc., and stacking the material within 50 metres lead of: G.S. Sheet | C16: sqm | D16: ='Measurement Sheet'!G54 -> 100.003 | F16: =D16*E16 -> 0
A17: A5 | B17: Demolishing brick work manually/ by mechanical means including stacking of serviceable material and disposal of unserviceable material within 50 metres lead as per direction of Engineer-in-charge. In cement mortar | C17: cum | D17: ='Measurement Sheet'!G109 -> 50.004183 | F17: =D17*E17 -> 0
A18: A6 | B18: Dismantling of flushing cistern of all types (C.I./PVC/Vitrious China) including stacking of useful materials near the site and disposal of unserviceable materials within 50 metres lead. | C18: Each | D18: ='Measurement Sheet'!G116 -> 18 | F18: =D18*E18 -> 0
A19: A7 | B19: Dismantling old plaster or skirting raking out joints and cleaning the surface for plaster including disposal of rubbish to the dumping ground within 50 metres lead. | C19: sqm | D19: ='Measurement Sheet'!G194 -> 349.99611 | F19: =D19*E19 -> 0
A20: A8 | B20: Dismantling roofing including ridges, hips, valleys and gutters etc., and stacking the material within 50 metres lead of: G.S. Sheet | C20: sqm | D20: ='Measurement Sheet'!G203 -> 430 | F20: =D20*E20 -> 0
B22: Total A | F22: =SUM(F13:F21) -> 0
B24: B. Masonry and Flooring & Wood Work
A26: B1 | B26: Earth work in surface excavation not exceeding 30 cm in depth but exceeding 1.5 m in width as well as 10 sqm on plan including getting out and disposal of excavated earth upto 50 m and lift upto 1.5 m, as directed by Engineer-in- Charge: All kinds of soil | C26: sqm | D26: ='Measurement Sheet'!G214 -> 40 | F26: =D26*E26 -> 0
A27: B2 | B27: Making plinth protection 50 mm thick of cement concrete 1:3:6 (1 cement : 3 coarse sand (zone-III) derived from natural sources : 6 graded stone aggregate 20 mm nominal size derived from natural sources) over 75 mm thick bed of dry brick ballast 40 mm nominal size, well rammed and consolidated and grouted with fine sand, including necessary excavation, levelling & dressing & finishing the top smooth. | C27: sqm | D27: ='Measurement Sheet'!G226 -> 20.0015 | F27: =D27*E27 -> 0
A28: B3 | B28: 40 mm thick fine dressed stone flooring over 20 mm (average) thick base of cement mortar 1:5 (1 cement : 5 coarse sand) with joints finished flush. White sand stone | C28: sqm | D28: ='Measurement Sheet'!G238 -> 20.0015 | F28: =D28*E28 -> 0
A29: B4 | B29: Providing and laying in position cement concrete of specified grade excluding the cost of centering and shuttering - All work up to plinth level : 1:2:4 (1 cement : 2 coarse sand (zone-III) derived from natural sources : 4 graded stone aggregate 20 mm nominal size derived from natural sources) | C29: cum | D29: ='Measurement Sheet'!G268 -> 30.002387 | F29: =D29*E29 -> 0
A30: B5 | B30: Providing and fixing approved quality natural stone cladding of 18–25 mm thickness, in required sizes, shapes, and patterns, on walls, columns, or façade surfaces, as per drawings, specifications, and as directed by the Engineer-in-Charge. | C30: sqm | D30: ='Measurement Sheet'!G306 -> 324.99695 | F30: =D30*E30 -> 0
A31: B6 | B31: Brick work in plain arches in superstructure above plinth level and upto floor five level including centering and shuttering complete for span up to 6 metres with common burnt clay F.P.S. (non modular) bricks of class designation 7.5 in cement mortar 1:3 (1 cement : 3 coarse sand) | C31: cum | D31: ='Measurement Sheet'!G314 -> 35 | F31: =D31*E31 -> 0
A32: B7 | B32: Brick work with common burnt clay F.P.S. (non modular) bricks of class designation 7.5 in foundation and plinth in: Cement mortar 1:4 (1 cement : 4 coarse sand) | C32: cum | D32: ='Measurement Sheet'!G352 -> 45.000234 | F32: =D32*E32 -> 0
A33: B8 | B33: 12 mm cement plaster finished with a floating coat of neat cement of mix : 1:4 (1 cement: 4 fine sand) | C33: sqm | D33: ='Measurement Sheet'!G419 -> 31.99505 | F33: =D33*E33 -> 0
A34: B9 | B34: Wall painting with premium acrylic emulsion paint of interior grade, having VOC (Volatile Organic Compound ) content less than 50 grams/ litre of approved brand and manufacture, including applying additional coats wherever required to achieve even shade and colour. Two coats | C34: sqm | D34: ='Measurement Sheet'!G422 -> 300 | F34: =D34*E34 -> 0
A35: B10 | B35: Structural steel work in single section, fixed with or without connecting plate, including cutting, hoisting, fixing in position and applying a priming coat of approved steel primer all complete. Heavy weight grating made with equal leg angle frame of 40x40x5 and Shutter of 35x35x5 ms angle with Ms flat (30x5)mm at top . the spacing between ms flat is 50mm dimensions, total weight of cover and frame to be not less than 30 kg | C35: kg | D35: ='Measurement Sheet'!G435 -> 1150 | F35: =D35*E35 -> 0
A36: B11 | B36: Providing and laying 4" x 4" Polycrete pavers of dark gray and medium gray shades (as per sample approved) over a prepared base in cement mortar 1:4 (1 part cement : 4 parts coarse sand), including preparation of base, leveling, laying in approved pattern, filling of joints with fine sand/cement slurry, compacting, and curing, complete as per drawing and direction of the Engineer-in-Charge. | C36: sqm | D36: ='Measurement Sheet'!G448 -> 29.80624 | F36: =D36*E36 -> 0
A37: B12 | B37: Random rubble masonry with hard stone in superstructure above plinth level and upto floor five level, including leveling up with cement concrete 1:6:12 (1 cement : 6 coarse sand : 12 graded stone aggregate 20 mm nominal size) at window sills, ceiling level and the like. Cement mortar 1:6 (1 cement : 6 coarse sand) | C37: cum | D37: ='Measurement Sheet'!G456 -> 5 | F37: =D37*E37 -> 0
A38: B13 | B38: Providing and laying Vitrified floor tiles of size 4'x2' (thickness to be specified by the manufacturer) of 1st quality conforming to IS : 15622 as per sample approved, laid on 20 mm thick cement mortar 1:4 (1 Cement : 4 Coarse sand), Jointing with grey cement slurry @ 3.3 kg/sqm including pointing the joints with white cement and matching pigment etc., complete. | C38: sqm | D38: ='Measurement Sheet'!G479 -> 249.9967 | F38: =D38*E38 -> 0
A39: B14 | B39: Providing and laying Vitrified mosaic wall tiles of size 450x300mm (thickness to be specified by the manufacturer) of 1st quality conforming to IS : 15622 as per sample approved, laid on 20 mm thick cement mortar 1:4 (1 Cement : 4 Coarse sand), Jointing with grey cement slurry @ 3.3 kg/sqm including pointing the joints with white cement and matching pigment etc., complete. | C39: sqm | D39: ='Measurement Sheet'!G544 -> 184.9968 | F39: =D39*E39 -> 0
A40: B15 | B40: Providing and laying Vitrified wall tiles of size 4'x2' (thickness to be specified by the manufacturer) of 1st quality conforming to IS : 15622 as per sample approved, laid on 20 mm thick cement mortar 1:4 (1 Cement : 4 Coarse sand), Jointing with grey cement slurry @ 3.3 kg/sqm including pointing the joints with white cement and matching pigment etc., complete. | C40: sqm | D40: ='Measurement Sheet'!G617 -> 170.0022 | F40: =D40*E40 -> 0
A41: B16 | B41: Providing and fixing factory made uPVC door frame made of uPVC extruded sections having an overall dimension as below (tolerance ±1mm), with wall thickness 2.0 mm (± 0.2 mm), corners of the door frame to be Jointed with galvanized brackets and stainless steel screws, joints mitred and Plastic welded. The hinge side vertical of the frames reinforced by galvanized M.S. tube of size 19 X 19 mm and 1 mm (± 0.1 mm) wall thickness and 3 nos. stainless steel hinges fixed to the frame complete as per manufacturer’s specification and direction of Engineerin- charge. Extruded section profile size 48x40 mm | C41: rmt | D41: ='Measurement Sheet'!G627 -> 35 | F41: =D41*E41 -> 0
A42: B17 | B42: 24 mm thick factory made PVC door shutters made of styles and rails of a uPVC hollow section of size 59x24 mm and wall thickness 2 mm (± 0.2 mm) with inbuilt edging on both sides. The styles and rails mitred and joint at the corners by means of M.S. galvanised/ plastic brackets of size 75x220 mm having wall thickness 1.0 mm and stainless steel screws. The styles of the shutter reinforced by inserting galvanised M.S. tube of size 20x20 mm and 1 mm (± 0.1mm) wall thickness. The lock rail made up of ‘H’ section, a uPVC hollow section of size 100x24 mm and 2 mm (± 0.2 mm) wall thickness, fixed to the shutter styles by means of plastic/galvanised M.S. ‘U’ cleats. The shutter frame filled with a uPVC multi-chambered single panel of size not less than 620 mm, having over all thickness of 20 mm and 1 mm (± 0.1 mm) wall thickness. The panels filled vertically and tie bar at two places by inserting horizontally 6 mm galvanised M.S. rod and fastened with nuts and washers, complete as per manufacturer’s specification and direction of Engineerin- charge. (For W.C. and bathroom door shutter). | C42: sqm | D42: ='Measurement Sheet'!G635 -> 8.0004 | F42: =D42*E42 -> 0
A43: B18 | B43: Providing & Fixing double skin full height 12 mm thick solid partition of make STYLAM or similar (upto the 7 feet), vertical members to be fixed on the SS plate and caping on the floor. Approved BWR ply as per IS:303, finished both side with approved 1 mm laminate surface complete with door shutter with laminate finish matching to the other available side of the partition, to be incorporated with necessary hinges, sliding bolt from inside, handle and all complete as per design, direction and approval of the Engineer. | C43: sqm | D43: ='Measurement Sheet'!G659 -> 129.99985 | F43: =D43*E43 -> 0
A44: B19 | B44: Providing and fixing false ceiling at all heights including providing and fixing of frame work made of special sections, power pressed from M.S. sheets and galvanized with zinc coating of 120 gms/sqm (both side inclusive) as per IS : 277 and consisting of angle cleats of size 25 mm wide x 1.6 mm thick with flanges of 27 mm and 37mm, at 1200 mm centre to centre, one flange fixed to the ceiling with dash fastener 12.5 mm dia x 50 mm long with 6 mm dia bolts, other flange of cleat fixed to the angle hangers of 25x10x0.50 mm of required length with nuts & bolts of required size and other end of angle hanger fixed with intermediate G.I. channels 45x15x0.9 mm running at the spacing of 1200 mm centre to centre, to which the ceiling section 0.5 mm thick bottom wedge of 80 mm with tapered flanges of 26 mm each having lips of 10.5 mm, at 450 mm centre to centre, shall be fixed in a direction perpendicular to G.I. intermediate channel with connecting clips made out of 2.64 mm dia x 230 mm long G.I. wire at every junction, including fixing perimeter channels 0.5 mm thick 27 mm high having flanges of 20 mm and 30 mm long, the perimeter of ceiling fixed to wall/partition with the help of rawl plugs at 450 mm centre, with 25 mm long dry wall screws @ 230 mm interval, including fixing of gypsum board to ceiling section and perimeter channel with the help of dry wall screws of size 3.5 x 25 mm at 230 mm c/c, including jointing and finishing to a flush finish of tapered and square edges of the board with recommended jointing compound , jointing tapes , finishing with jointing compound in 3 layers covering upto 150 mm on both sides of joint and two coats of primer suitable for board, all as per manufacturer’s specification and also including the cost of making openings for light fittings, grills, diffusers, cutouts made with frame of perimeter channels suitably fixed, all complete as per drawings, specification and direction of the Engineer in Charge but excluding the cost of painting with : Fully Perforated Gypsum Plaster Board of size 1200 x 2400x12.5 mm having approx. 15 % perforated area with perforation size and pattern as approved by the Engineerin- charge and as per manufacturer’s specification, with all 4 sides tapered and backed by acoustical tissue with NRC value not less than 0.60 | C44: sqm | D44: ='Measurement Sheet'!G681 -> 140.00177 | F44: =D44*E44 -> 0
B46: Total B | F46: =SUM(F26:F44) -> 0
B48: C. Roofing works
A50: C1 | B50: Provide and fixing 19 mm thick marine plywood (water-resistant) onto rafters using suitable screws and washers, including all required fixing materials (nails, screws, washers, adhesives), aligning, leveling, cutting to fit at joints, and finishing. Work to be done complete, as per Engineer‑in‑Charge approval. | C50: sqm | D50: ='Measurement Sheet'!G689 -> 160 | F50: =D50*E50 -> 0
A51: C2 | B51: Providing and fixing flashings, Cappings, valleys manufactured same material as mentioned for roof sheets above in standard lengths of 2.5 mtr. And fixed by means of hex-head self-drilling stitching screws. 501 to 1000 mm Girth in Ridges, flashings, aprons, barge boards (Make of the sheet to be OEM TATA/JSW PRIME material) | C51: rmt | D51: ='Measurement Sheet'!G697 -> 40 | F51: =D51*E51 -> 0
A52: C3 | B52: Providing and Fixing Gutters manufactured same material as mentioned for roof sheets without PUFF insultation above in standard lengths of 2.5 mtr. And fixed by means of hex-head self-drilling stitching screws. 501 to 1000 mm Girth (Make of the sheet to be OEM TATA/JSW PRIME material) | C52: rmt | D52: ='Measurement Sheet'!G705 -> 30 | F52: =D52*E52 -> 0
...

Sheet Measurement Sheet
A1: LSS_Take of Sheet_Renovation of GD_Phase 2 (Winter)_16.10.2026
A2: S.N0 | B2: =Abstract!B9 -> Item Description | C2: Nos | D2: L | E2: W | F2: H/D | G2: Qty. | H2: Unit
B4: =Abstract!B11 -> A.Dismantling & Demolishing
A6: =Abstract!A13 -> A1 | B6: =Abstract!B13 -> Demolishing cement concrete manually/ by mechanical means including disposal of material within 50 metres lead as per direction of Engineer - in - charge.
B8: Outer Loo | D8: 4.959 | E8: 8.609 | F8: 0.1 | G8: =D8*E8*F8 -> 4.2692031 | H8: cum
B10: OGD
B11: Lower Ground Floor | C11: 1 | D11: 5 | E11: 4.64 | F11: 0.1 | G11: =C11*D11*E11*F11 -> 2.32 | H11: cum
B12: Upper Ground Floor
B13: Bath | C13: 1 | D13: 3.305 | E13: 3.19 | F13: 0.1 | G13: =C13*D13*E13*F13 -> 1.054295 | H13: cum
B14: Toilet | C14: 1 | D14: 3.305 | E14: 3.205 | F14: 0.1 | G14: =C14*D14*E14*F14 -> 1.0592525 | H14: cum
B15: Toilet | C15: 1 | D15: 2.495 | E15: 1.485 | F15: 0.1 | G15: =C15*D15*E15*F15 -> 0.3705075 | H15: cum
B16: First Floor
B17: Bath | C17: 1 | D17: 3.305 | E17: 3.19 | F17: 0.1 | G17: =C17*D17*E17*F17 -> 1.054295 | H17: cum
B18: Toilet | C18: 1 | D18: 3.305 | E18: 3.205 | F18: 0.1 | G18: =C18*D18*E18*F18 -> 1.0592525 | H18: cum
B19: Toilet | C19: 2 | D19: 2.495 | E19: 1.485 | F19: 0.1 | G19: =C19*D19*E19*F19 -> 0.741015 | H19: cum
B21: At different location as per structure demand | G21: 3.07 | H21: cum
B23: Total | G23: =SUM(G8:G22) -> 14.997821 | H23: cum
A25: =Abstract!A14 -> A2 | B25: =Abstract!B14 -> Dismantling tile work in floors and roofs laid in cement mortar including stacking material within 50 metres lead. For thickness of tiles 10 mm to 25 mm
B27: Outer Loo | D27: 4.959 | E27: 8.609 | G27: =D27*E27 -> 42.692031 | H27: sqm
B29: OGD
B30: Lower Ground Floor | C30: 1 | D30: 5 | E30: 4.64 | F30: 0.1 | G30: =C30*D30*E30*F30 -> 2.32 | H30: cum
B31: Upper Ground Floor
B32: Bath | C32: 1 | D32: 3.305 | E32: 3.19 | F32: 0.1 | G32: =C32*D32*E32*F32 -> 1.054295 | H32: cum
B33: Toilet | C33: 1 | D33: 3.305 | E33: 3.205 | F33: 0.1 | G33: =C33*D33*E33*F33 -> 1.0592525 | H33: cum
B34: Toilet | C34: 1 | D34: 2.495 | E34: 1.485 | F34: 0.1 | G34: =C34*D34*E34*F34 -> 0.3705075 | H34: cum
B35: First Floor
B36: Bath | C36: 1 | D36: 3.305 | E36: 3.19 | F36: 0.1 | G36: =C36*D36*E36*F36 -> 1.054295 | H36: cum
B37: Toilet | C37: 1 | D37: 3.305 | E37: 3.205 | F37: 0.1 | G37: =C37*D37*E37*F37 -> 1.0592525 | H37: cum
B38: Toilet | C38: 2 | D38: 2.495 | E38: 1.485 | F38: 0.1 | G38: =C38*D38*E38*F38 -> 0.741015 | H38: cum
B40: At different location as per structure demand | G40: 4.65 | H40: sqm
B42: Total | G42: =SUM(G27:G41) -> 55.000649 | H42: sqm
A44: =Abstract!A15 -> A3 | B44: =Abstract!B15 -> Demolishing R.C.C. work manually/ by mechanical means including stacking of steel bars and disposal of unserviceable material within 50 metres lead as per direction of Engineer - in- charge.
B46: At different location as per structure demand | G46: 2 | H46: cum
A48: =Abstract!A16 -> A4 | B48: =Abstract!B16 -> Dismantling roofing including ridges, hips, valleys and gutters etc., and stacking the material within 50 metres lead of: G.S. Sheet
B50: Outer Loo | D50: 10.6 | E50: 7.405 | G50: =D50*E50 -> 78.493 | H50: sqm
B52: At different location as per structure demand | G52: 21.51 | H52: sqm
B54: Total | G54: =SUM(G50:G53) -> 100.003 | H54: sqm
A56: =Abstract!A17 -> A5 | B56: =Abstract!B17 -> Demolishing brick work manually/ by mechanical means including stacking of serviceable material and disposal of unserviceable material within 50 metres lead as per direction of Engineer-in-charge. In cement mortar
B58: Outer Loo
B59: 1 | C59: 1 | D59: 8.6 | E59: 0.25 | F59: 2.4 | G59: =C59*D59*E59*F59 -> 5.16 | H59: cum
...
