Workbook
Name ______________BLK2: #REF!
Name ______________BLK2: #REF!
Name ______________BLK2: #REF!
Name ______________FIT1: #REF!
Name ______________FIT1: #REF!
Name ______________MS2: #REF!
Name _____________BLK1: #REF!
Name _____________BLK1: #REF!
Name _____________BLK1: #REF!
Name _____________BLK2: #REF!
Name _____________BLK2: #REF!
Name _____________BLK2: #REF!
Name _____________FIT1: #REF!
Name _____________FIT1: #REF!
Name _____________FIT1: #REF!
Name _____________FIT2: #REF!
Name _____________FIT2: #REF!
Name _____________MS2: #REF!
Name ____________BLK1: #REF!
Name ____________BLK1: #REF!
Name ____________BLK1: #REF!
Name ____________BLK2: #REF!
Name ____________BLK2: #REF!
Name ____________BLK2: #REF!
Name ____________FIT1: #REF!
Name ____________FIT1: #REF!
Name ____________FIT1: #REF!
Name ____________FIT2: #REF!
Name ____________FIT2: #REF!
Name ____________MS2: #REF!
Name ___________BLK1: #REF!
Name ___________BLK1: #REF!
Name ___________BLK1: #REF!
Name ___________BLK2: #REF!
Name ___________BLK2: #REF!
Name ___________BLK2: #REF!
Name ___________FIT1: #REF!
Name ___________FIT1: #REF!
Name ___________FIT1: #REF!
Name ___________FIT2: #REF!
Name ___________FIT2: #REF!
Name ___________MS2: #REF!
Name __________BLK1: #REF!
Name __________BLK1: #REF!
Name __________BLK1: #REF!
Name __________BLK2: #REF!
Name __________BLK2: #REF!
Name __________BLK2: #REF!
Name __________FIT1: #REF!
Name __________FIT1: #REF!
Name __________FIT1: #REF!
Name __________FIT2: #REF!
Name __________FIT2: #REF!
Name __________MS2: #REF!
Name _________BLK1: #REF!
Name _________BLK1: #REF!
Name _________BLK1: #REF!
Name _________BLK2: #REF!
Name _________BLK2: #REF!
Name _________BLK2: #REF!

Sheet Abstract
A1: M/s
A2: Address
A3: GST
A7: LSS_Bill of Quantities_Renovation of GD_Phase 2 (Winter)_16.10.2026
A9: Sr. No. | B9: Item Description | C9: Unit | D9: Quantity | E9: Rate | F9: Amount | G9: Reference
B11: A.Dismantling & Demolishing
A13: A1 | B13: Demolishing cement concrete manually/ by mechanical means including disposal of material within 50 metres lead as per direction of Engineer - in - charge. | C13: cum | D13: ='Measurement Sheet'!G23 -> 14.997821 | F13: =D13*E13 -> 0
A14: A2 | B14: Dismantling tile work in floors and roofs laid in cement mortar including stacking material within 50 metres lead. For thickness of tiles 10 mm to 25 mm | C14: sqm | D14: ='Measurement Sheet'!G42 -> 55.000649 | F14: =D14*E14 -> 0
A15: A3 | B15: Demolishing R.C.C. work manually/ by mechanical means including stacking of steel bars and disposal of unserviceable material within 50 metres lead as per direction of Engineer - in- charge. | C15: cum | D15: ='Measurement Sheet'!G46 -> 2 | F15: =D15*E15 -> 0
A16: A4 | B16: Dismantling roofing including ridges, hips, valleys and gutters etc., and stacking the material within 50 metres lead of: G.S. Sheet | C16: sqm | D16: ='Measurement Sheet'!G54 -> 100.003 | F16: =D16*E16 -> 0
A17: A5 | B17: Demolishing brick work manually/ by mechanical means including stacking of serviceable material and disposal of unserviceable material within 50 metres lead as per direction of Engineer-in-charge. In cement mortar | C17: cum | D17: ='Measurement Sheet'!G109 -> 50.004183 | F17: =D17*E17 -> 0
A18: A6 | B18: Dismantling of flushing cistern of all types (C.I./PVC/Vitrious China) including stacking of useful materials near the site and disposal of unserviceable materials within 50 metres lead. | C18: Each | D18: ='Measurement Sheet'!G116 -> 18 | F18: =D18*E18 -> 0
A19: A7 | B19: Dismantling old plaster or skirting raking out joints and cleaning the surface for plaster including disposal of rubbish to the dumping ground within 50 metres lead. | C19: sqm | D19: ='Measurement Sheet'!G194 -> 349.99611 | F19: =D19*E19 -> 0
A20: A8 | B20: Dismantling roofing including ridges, hips, valleys and gutters etc., and stacking the material within 50 metres lead of: G.S. Sheet | C20: sqm | D20: ='Measurement Sheet'!G203 -> 430 | F20: =D20*E20 -> 0
B22: Total A | F22: =SUM(F13:F21) -> 0
B24: B. Masonry and Flooring & Wood Work
A26: B1 | B26: Earth work in surface excavation not exceeding 30 cm in depth but exceeding 1.5 m in width as well as 10 sqm on plan including getting out and disposal of excavated earth upto 50 m and lift upto 1.5 m, as directed by Engineer-in- Charge: All kinds of soil | C26: sqm | D26: ='Measurement Sheet'!G214 -> 40 | F26: =D26*E26 -> 0
A27: B2 | B27: Making plinth protection 50 mm thick of cement concrete 1:3:6 (1 cement : 3 coarse sand (zone-III) derived from natural sources : 6 graded stone aggregate 20 mm nominal size derived from natural sources) over 75 mm thick bed of dry brick ballast 40 mm nominal size, well rammed and consolidated and grouted with fine sand, including necessary excavation, levelling & dressing & finishing the top smooth. | C27: sqm | D27: ='Measurement Sheet'!G226 -> 20.0015 | F27: =D27*E27 -> 0
A28: B3 | B28: 40 mm thick fine dressed stone flooring over 20 mm (average) thick base of cement mortar 1:5 (1 cement : 5 coarse sand) with joints finished flush. White sand stone | C28: sqm | D28: ='Measurement Sheet'!G238 -> 20.0015 | F28: =D28*E28 -> 0
A29: B4 | B29: Providing and laying in position cement concrete of specified grade excluding the cost of centering and shuttering - All work up to plinth level : 1:2:4 (1 cement : 2 coarse sand (zone-III) derived from natural sources : 4 graded stone aggregate 20 mm nominal size derived from natural sources) | C29: cum | D29: ='Measurement Sheet'!G268 -> 30.002387 | F29: =D29*E29 -> 0
A30: B5 | B30: Providing and fixing approved quality natural stone cladding of 18–25 mm thickness, in required sizes, shapes, and patterns, on walls, columns, or façade surfaces, as per drawings, specifications, and as directed by the Engineer-in-Charge. | C30: sqm | D30: ='Measurement Sheet'!G306 -> 324.99695 | F30: =D30*E30 -> 0
A31: B6 | B31: Brick work in plain arches in superstructure above plinth level and upto floor five level including centering and shuttering complete for span up to 6 metres with common burnt clay F.P.S. (non modular) bricks of class designation 7.5 in cement mortar 1:3 (1 cement : 3 coarse sand) | C31: cum | D31: ='Measurement Sheet'!G314 -> 35 | F31: =D31*E31 -> 0
A32: B7 | B32: Brick work with common burnt clay F.P.S. (non modular) bricks of class designation 7.5 in foundation and plinth in: Cement mortar 1:4 (1 cement : 4 coarse sand) | C32: cum | D32: ='Measurement Sheet'!G352 -> 45.000234 | F32: =D32*E32 -> 0
A33: B8 | B33: 12 mm cement plaster finished with a floating coat of neat cement of mix : 1:4 (1 cement: 4 fine sand) | C33: sqm | D33: ='Measurement Sheet'!G419 -> 31.99505 | F33: =D33*E33 -> 0
A34: B9 | B34: Wall painting with premium acrylic emulsion paint of interior grade, having VOC (Volatile Organic Compound ) content less than 50 grams/ litre of approved brand and manufacture, including applying additional coats wherever required to achieve even shade and colour. Two coats | C34: sqm | D34: ='Measurement Sheet'!G422 -> 300 | F34: =D34*E34 -> 0
A35: B10 | B35: Structural steel work in single section, fixed with or without connecting plate, including cutting, hoisting, fixing in position and applying a priming coat of approved steel primer all complete. Heavy weight grating made with equal leg angle frame of 40x40x5 and Shutter of 35x35x5 ms angle with Ms flat (30x5)mm at top . the spacing between ms flat is 50mm dimensions, total weight of cover and frame to be not less than 30 kg | C35: kg | D35: ='Measurement Sheet'!G435 -> 1150 | F35: =D35*E35 -> 0
A36: B11 | B36: Providing and laying 4" x 4" Polycrete pavers of dark gray and medium gray shades (as per sample approved) over a prepared base in cement mortar 1:4 (1 part cement : 4 parts coarse sand), including preparation of base, leveling, laying in approved pattern, filling of joints with fine sand/cement slurry, compacting, and curing, complete as per drawing and direction of the Engineer-in-Charge. | C36: sqm | D36: ='Measurement Sheet'!G448 -> 29.80624 | F36: =D36*E36 -> 0
A37: B12 | B37: Random rubble masonry with hard stone in superstructure above plinth level and upto floor five level, including leveling up with cement concrete 1:6:12 (1 cement : 6 coarse sand : 12 graded stone aggregate 20 mm nominal size) at window sills, ceiling level and the like. Cement mortar 1:6 (1 cement : 6 coarse sand) | C37: cum | D37: ='Measurement Sheet'!G456 -> 5 | F37: =D37*E37 -> 0
A38: B13 | B38: Providing and laying Vitrified floor tiles of size 4'x2' (thickness to be specified by the manufacturer) of 1st quality conforming to IS : 15622 as per sample approved, laid on 20 mm thick cement mortar 1:4 (1 Cement : 4 Coarse sand), Jointing with grey cement slurry @ 3.3 kg/sqm including pointing the joints with white cement and matching pigment etc., complete. | C38: sqm | D38: ='Measurement Sheet'!G479 -> 249.9967 | F38: =D38*E38 -> 0
A39: B14 | B39: Providing and laying Vitrified mosaic wall tiles of size 450x300mm (thickness to be specified by the manufacturer) of 1st quality conforming to IS : 15622 as per sample approved, laid on 20 mm thick cement mortar 1:4 (1 Cement : 4 Coarse sand), Jointing with grey cement slurry @ 3.3 kg/sqm including pointing the joints with white cement and matching pigment etc., complete. | C39: sqm | D39: ='Measurement Sheet'!G544 -> 184.9968 | F39: =D39*E39 -> 0
A40: B15 | B40: Providing and laying Vitrified wall tiles of size 4'x2' (thickness to be specified by the manufacturer) of 1st quality conforming to IS : 15622 as per sample approved, laid on 20 mm thick cement mortar 1:4 (1 Cement : 4 Coarse sand), Jointing with grey cement slurry @ 3.3 kg/sqm including pointing the joints with white cement and matching pigment etc., complete. | C40: sqm | D40: ='Measurement Sheet'!G617 -> 170.0022 | F40: =D40*E40 -> 0
A41: B16 | B41: Providing and fixing factory made uPVC door frame made of uPVC extruded sections having an overall dimension as below (tolerance ±1mm), with wall thickness 2.0 mm (± 0.2 mm), corners of the door frame to be Jointed with galvanized brackets and stainless steel screws, joints mitred and Plastic welded. The hinge side vertical of the frames reinforced by galvanized M.S. tube of size 19 X 19 mm and 1 mm (± 0.1 mm) wall thickness and 3 nos. stainless steel hinges fixed to the frame complete as per manufacturer’s specification and direction of Engineerin- charge. Extruded section profile size 48x40 mm | C41: rmt | D41: ='Measurement Sheet'!G627 -> 35 | F41: =D41*E41 -> 0
A42: B17 | B42: 24 mm thick factory made PVC door shutters made of styles and rails of a uPVC hollow section of size 59x24 mm and wall thickness 2 mm (± 0.2 mm) with inbuilt edging on both sides. The styles and rails mitred and joint at the corners by means of M.S. galvanised/ plastic brackets of size 75x220 mm having wall thickness 1.0 mm and stainless steel screws. The styles of the shutter reinforced by inserting galvanised M.S. tube of size 20x20 mm and 1 mm (± 0.1mm) wall thickness. The lock rail made up of ‘H’ section, a uPVC hollow section of size 100x24 mm and 2 mm (± 0.2 mm) wall thickness, fixed to the shutter styles by means of plastic/galvanised M.S. ‘U’ cleats. The shutter frame filled with a uPVC multi-chambered single panel of size not less than 620 mm, having over all thickness of 20 mm and 1 mm (± 0.1 mm) wall thickness. The panels filled vertically and tie bar at two places by inserting horizontally 6 mm galvanised M.S. rod and fastened with nuts and washers, complete as per manufacturer’s specification and direction of Engineerin- charge. (For W.C. and bathroom door shutter). | C42: sqm | D42: ='Measurement Sheet'!G635 -> 8.0004 | F42: =D42*E42 -> 0
A43: B18 | B43: Providing & Fixing double skin full height 12 mm thick solid partition of make STYLAM or similar (upto the 7 feet), vertical members to be fixed on the SS plate and caping on the floor. Approved BWR ply as per IS:303, finished both side with approved 1 mm laminate surface complete with door shutter with laminate finish matching to the other available side of the partition, to be incorporated with necessary hinges, sliding bolt from inside, handle and all complete as per design, direction and approval of the Engineer. | C43: sqm | D43: ='Measurement Sheet'!G659 -> 129.99985 | F43: =D43*E43 -> 0
A44: B19 | B44: Providing and fixing false ceiling at all heights including providing and fixing of frame work made of special sections, power pressed from M.S. sheets and galvanized with zinc coating of 120 gms/sqm (both side inclusive) as per IS : 277 and consisting of angle cleats of size 25 mm wide x 1.6 mm thick with flanges of 27 mm and 37mm, at 1200 mm centre to centre, one flange fixed to the ceiling with dash fastener 12.5 mm dia x 50 mm long with 6 mm dia bolts, other flange of cleat fixed to the angle hangers of 25x10x0.50 mm of required length with nuts & bolts of required size and other end of angle hanger fixed with intermediate G.I. channels 45x15x0.9 mm running at the spacing of 1200 mm centre to centre, to which the ceiling section 0.5 mm thick bottom wedge of 80 mm with tapered flanges of 26 mm each having lips of 10.5 mm, at 450 mm centre to centre, shall be fixed in a direction perpendicular to G.I. intermediate channel with connecting clips made out of 2.64 mm dia x 230 mm long G.I. wire at every junction, including fixing perimeter channels 0.5 mm thick 27 mm high having flanges of 20 mm and 30 mm long, the perimeter of ceiling fixed to wall/partition with the help of rawl plugs at 450 mm centre, with 25 mm long dry wall screws @ 230 mm interval, including fixing of gypsum board to ceiling section and perimeter channel with the help of dry wall screws of size 3.5 x 25 mm at 230 mm c/c, including jointing and finishing to a flush finish of tapered and square edges of the board with recommended jointing compound , jointing tapes , finishing with jointing compound in 3 layers covering upto 150 mm on both sides of joint and two coats of primer suitable for board, all as per manufacturer’s specification and also including the cost of making openings for light fittings, grills, diffusers, cutouts made with frame of perimeter channels suitably fixed, all complete as per drawings, specification and direction of the Engineer in Charge but excluding the cost of painting with : Fully Perforated Gypsum Plaster Board of size 1200 x 2400x12.5 mm having approx. 15 % perforated area with perforation size and pattern as approved by the Engineerin- charge and as per manufacturer’s specification, with all 4 sides tapered and backed by acoustical tissue with NRC value not less than 0.60 | C44: sqm | D44: ='Measurement Sheet'!G681 -> 140.00177 | F44: =D44*E44 -> 0
B46: Total B | F46: =SUM(F26:F44) -> 0
B48: C. Roofing works
A50: C1 | B50: Provide and fixing 19 mm thick marine plywood (water-resistant) onto rafters using suitable screws and washers, including all required fixing materials (nails, screws, washers, adhesives), aligning, leveling, cutting to fit at joints, and finishing. Work to be done complete, as per Engineer‑in‑Charge approval. | C50: sqm | D50: ='Measurement Sheet'!G689 -> 160 | F50: =D50*E50 -> 0
A51: C2 | B51: Providing and fixing flashings, Cappings, valleys manufactured same material as mentioned for roof sheets above in standard lengths of 2.5 mtr. And fixed by means of hex-head self-drilling stitching screws. 501 to 1000 mm Girth in Ridges, flashings, aprons, barge boards (Make of the sheet to be OEM TATA/JSW PRIME material) | C51: rmt | D51: ='Measurement Sheet'!G697 -> 40 | F51: =D51*E51 -> 0
A52: C3 | B52: Providing and Fixing Gutters manufactured same material as mentioned for roof sheets without PUFF insultation above in standard lengths of 2.5 mtr. And fixed by means of hex-head self-drilling stitching screws. 501 to 1000 mm Girth (Make of the sheet to be OEM TATA/JSW PRIME material) | C52: rmt | D52: ='Measurement Sheet'!G705 -> 30 | F52: =D52*E52 -> 0
A53: C4 | B53: Providng and fixing insulated PUFF sheet Roofing with the following specificifications -Panel Specifications: Roof shall be made of sandwich panel, made out of 0.50mm colour coated galvalume steel sheets spec 150gsm & 550mpa as as outer & inner cladding will be 0.40 mm colour coated galvalume sheet sheet spec 150 gsm & 550 mpa on both side of PUFF. Make of the sheet to be OEM TATA/JSW PRIME material. . The total thickness of panel will be 50/80 mm for roof, panel PU foam will be CFC free , self-extinguishing, Fire resistance type having density of 40 kg/cum. The Panel are joined together by tongue & groove method, complete in all respect including all the accessories. Fixing Mechanism: The sheeting will be fixed using galvanized self-drilling, self-tapping fasteners with EPDM seals to ensure secure attachment and weatherproofing. | C53: sqm | D53: ='Measurement Sheet'!G711 -> 160 | F53: =D53*E53 -> 0
A54: C5 | B54: Providing and fixing precoated galvanised iron profile sheets (size, shape and pitch of corrugation as approved by Engineer-in-Charge) of total coated thickness 0.50 mm (base metal of minimum 0.45 mm thickness with total coating thickness of 0.05mm) with zinc coating 120 grams per sqm as per IS: 277, in 240 mpa steel grade, 5-7 microns epoxy primer onboth side of the sheet and polyester top coat 15-18 microns. Sheet should have protective guard film of 25 microns minimum to avoid scratches during transportation and should be supplied in single length upto 12 metre or as desired by Engineer-in-charge. The sheet shall be fixed using self drilling /self tapping screws of size (5.5x 55 mm) with EPDM seal, complete upto any pitch in horizontal/ vertical or curved surfaces, excluding the cost of purlins, rafters and trusses and including cutting to size and shape wherever required. | C54: sqm | D54: ='Measurement Sheet'!G719 -> 90.003 | F54: =D54*E54 -> 0
A55: C6 | B55: Providing and fixing precoated galvanised steel sheet roofing accessories of total coated thickness 0.50 mm (base metal of minimum 0.45 mm thickness with total coating thickness of 0.05 mm) with Zinc coating 120 gram per sqm as per IS: 277, in 240 mpa steel grade, 5-7 microns epoxy primer on both side of the sheet and polyester top coat 15-18 microns using self drilling/ self tapping screws complete : Flashings/ Aprons.( Upto 600 mm) | C55: metre | D55: ='Measurement Sheet'!G727 -> 90.003 | F55: =D55*E55 -> 0
A56: C7 | B56: Structural steel work riveted, bolted or welded in built up sections, trusses and framed work, including cutting, hoisting, fixing in position and applying a priming coat of approved steel primer all complete. | C56: kg | D56: ='Measurement Sheet'!G731 -> 1000 | F56: =D56*E56 -> 0
B58: Total C | F58: =SUM(F49:F57) -> 0
B60: D. Plumbing & Sanitary works
A62: D1 | B62: Providing and fixing european seat S-Trap including P/F seat cover White Essco/Jaguar make including seat cover, nuts, bolts and gasket etc complete. (ECS-WHT-551SNPP) | C62: Each | D62: ='Measurement Sheet'!G741 -> 22 | F62: =D62*E62 -> 0
A63: D1.1 | B63: Providing and fixing Low level Three star cistern white including kit, bend and all necessary fittings of Essco/Jaguar (JAH-WHT-184NL) | C63: Each | D63: ='Measurement Sheet'!G748 -> 22 | F63: =D63*E63 -> 0
A64: D2 | B64: Providing and fixing wash basin as per sample approved (CNS−WHT−701) | C64: Each | D64: ='Measurement Sheet'!G755 -> 27 | F64: =D64*E64 -> 0
A65: D2.1 | B65: Providing and fixing wash basin mixer as per sample approved (QQP−CHR−7001BPM) | C65: Each | D65: ='Measurement Sheet'!G755 -> 27 | F65: =D65*E65 -> 0
A66: D3 | B66: Providing and fixing Bottle Trap of approved quality & make and as per the direction of Engineer-in-charge. (ALE-CHR-773ML) | C66: Each | D66: ='Measurement Sheet'!G762 -> 27 | F66: =D66*E66 -> 0
A67: D4 | B67: Providing and fixing toilet paper holder : C.P. brass of Essco/Jaguar (AEC-CHR-1151N) | C67: Each | D67: ='Measurement Sheet'!G769 -> 22 | F67: =D67*E67 -> 0
A68: D5 | B68: Providing and fixing Health faucet with 1 metre long Flexible tube and C.P. wall hook with PVC & SS Screws wherever required make and as per the direction of Engineer-in-charge. (ALD-CH-573) | C68: Each | D68: ='Measurement Sheet'!G776 -> 22 | F68: =D68*E68 -> 0
A69: D7 | B69: Providing and fixing C.P Towel Rail 600mm long fixed to PVC cleats with C.p brass screws including cutting and making good the walls wherever required. | C69: Each | D69: ='Measurement Sheet'!G782 -> 11 | F69: =D69*E69 -> 0
A70: D8 | B70: Providing and fixing C.P Single lever concealed diverter (QQP−CHR−7079NKPM) and Bath spout (SPJ-CHR-7429 PM) for bath and shower with Button at Top complete as per direction of the Engineer-in-charge+A75:D75 | C70: Each | D70: ='Measurement Sheet'!G788 -> 11 | F70: =D70*E70 -> 0
A71: D9 | B71: Providing and Fixing Shower Head Over head rose shower with revoling joint ( with boday roation) & long shower arm complete as directed by enginner in charge (OHS-CHR-1709) | C71: Each | D71: ='Measurement Sheet'!G794 -> 11 | F71: =D71*E71 -> 0
A72: D10 | B72: Providing and fixing C.P. brass long body bib cock of approved quality conforming to IS standards and weighing not less than 690 gms.15 mm nominal bore | C72: Each | D72: ='Measurement Sheet'!G801 -> 22 | F72: =D72*E72 -> 0
A73: D11 | B73: Providing and fixing C.P. brass stop cock (concealed) of standard design and of approved make conforming to IS:8931. 15 mm nominal bore | C73: Each | D73: ='Measurement Sheet'!G808 -> 50 | F73: =D73*E73 -> 0
A74: D12 | B74: Providing and fixing C.P. brass angle valve for basin mixer and geyser points of approved quality conforming to IS:8931 15 mm nominal bore (AQT - CHR-3057P) | C74: Each | D74: ='Measurement Sheet'!G815 -> 27 | F74: =D74*E74 -> 0
A75: D13 | B75: Providing and fixing of C.P towel ring square/circular fixed to wooden cleats with C.P brass screws including cutting and making good the walls wherever required. | C75: Each | D75: ='Measurement Sheet'!G822 -> 12 | F75: =D75*E75 -> 0
A76: D14 | B76: Providing and fixing soap dish of Essco/Jaguar (AEC-CHR-1131N) | C76: Each | D76: ='Measurement Sheet'!G829 -> 12 | F76: =D76*E76 -> 0
A77: D15 | B77: Providing and fixing C.P grating of Essco/Jaguar | C77: Each | D77: ='Measurement Sheet'!G836 -> 33 | F77: =D77*E77 -> 0
A78: D16 | B78: Providing and fixing floor trap of size 75mm | C78: Each | D78: ='Measurement Sheet'!G843 -> 33 | F78: =D78*E78 -> 0
A79: D17 | B79: Providing and fixing floor trap bend of size 75mm | C79: Each | D79: ='Measurement Sheet'!G850 -> 33 | F79: =D79*E79 -> 0
A80: D18 | B80: Providing and fixing floor trap of size 100mm | C80: Each | D80: ='Measurement Sheet'!G857 -> 33 | F80: =D80*E80 -> 0
A81: D19 | B81: Providing and fixing PVC bend of size 75mm | C81: Each | D81: ='Measurement Sheet'!G864 -> 33 | F81: =D81*E81 -> 0
A82: D20 | B82: Providing and fixing PVC bend of size 100mm | C82: Each | D82: ='Measurement Sheet'!G871 -> 33 | F82: =D82*E82 -> 0
A83: D21 | B83: Providing and fixing P/F Black Granite for wash basin counter top | C83: Each | D83: ='Measurement Sheet'!G891 -> 19.997 | F83: =D83*E83 -> 0
A84: D22 | B84: Providing and fixing Chlorinated Polyvinyl Chloride (CPVC) pipes, having thermal stability for hot & cold water supply, including all CPVC plain & brass threaded fittings and fixing the pipe with clamps at 1.00 m spacing. This includes jointing of pipes & fittings with one step CPVC solvent cement and the cost of cutting chases and making good the same including testing of joints complete as per direction of Engineer in Charge. Concealed work, including cutting chases and making good the walls etc.
A85: D22.1 | B85: 15 mm nominal dia Pipes | C85: metre | D85: ='Measurement Sheet'!G895 -> 100 | F85: =D85*E85 -> 0
A86: D22.2 | B86: 20 mm nominal dia Pipes | C86: metre | D86: ='Measurement Sheet'!G896 -> 80 | F86: =D86*E86 -> 0
A87: D22.3 | B87: 25 mm nominal dia Pipes | C87: metre | D87: ='Measurement Sheet'!G897 -> 80 | F87: =D87*E87 -> 0
A88: D22.4 | B88: 32 mm nominal dia Pipes | C88: metre | D88: ='Measurement Sheet'!G898 -> 70 | F88: =D88*E88 -> 0
A89: D23 | B89: Providing and fixing Chlorinated Polyvinyl Chloride (CPVC) pipes, having thermal stability for hot & cold water supply including all CPVC plain & brass threaded fittings This includes jointing of pipes & fittings with one step CPVC solvent cement, trenching, refilling & testing of joints complete as per direction of Engineer in Charge. External work
A90: D23.1 | B90: 15 mm nominal dia Pipes | C90: metre | D90: ='Measurement Sheet'!G902 -> 50 | F90: =D90*E90 -> 0
A91: D23.2 | B91: 20 mm nominal dia Pipes | C91: metre | D91: ='Measurement Sheet'!G903 -> 50 | F91: =D91*E91 -> 0
A92: D23.3 | B92: 25 mm nominal dia Pipes | C92: metre | D92: ='Measurement Sheet'!G904 -> 50 | F92: =D92*E92 -> 0
A93: D23.4 | B93: 40 mm nominal dia Pipes | C93: metre | D93: ='Measurement Sheet'!G905 -> 200 | F93: =D93*E93 -> 0
A94: D23.5 | B94: 75 mm nominal dia Pipes | C94: metre | D94: ='Measurement Sheet'!G906 -> 150 | F94: =D94*E94 -> 0
A95: D23.6 | B95: 100 mm nominal dia Pipes | C95: metre | D95: ='Measurement Sheet'!G907 -> 100 | F95: =D95*E95 -> 0
A96: D24 | B96: Providing and laying Non Pressure NP-3 class (Medium duty) R.C.C. pipes including collars/spigot jointed with stiff mixture of cement mortar in the proportion of 1:2 (1 cement : 2 fine sand) including testing of jointsetc. Complete 450 mm dia RCC pipes. | C96: rmt | D96: ='Measurement Sheet'!G911 -> 20 | F96: =D96*E96 -> 0
A97: D25 | B97: Constructing brick masonry manhole in cement mortar 1:4 ( 1 cement : 4 coarse sand ) with R.C.C. top slab with 1:1.5:3 mix (1 cement : 1.5 coarse sand (zone-III) : 3 graded stone aggregate 20 mm nominal size), foundation concrete 1:4:8 mix (1 cement : 4 coarse sand (zone-III) : 8 graded stone aggregate 40 mm nominal size), inside plastering 12 mm thick with cement mortar 1:3 (1 cement : 3 coarse sand) finished with floating coat of neat cement and making channels in cement concrete 1:2:4 (1 cement : 2 coarse sand : 4 graded stone aggregate 20 mm nominal size) finished with a floating coat of neat cement complete as per standard design : Inside size 90x80 cm and 45 cm deep including C.I. cover with frame (light duty) 455x610 mm internal dimensions, total weight of cover and frame to be not less than 38 kg (weight of cover 23 kg and weight of frame 15 kg) : With common burnt clay F.P.S. (non modular) bricks of class designation 7.5 | C97: each | D97: ='Measurement Sheet'!G915 -> 2 | F97: =D97*E97 -> 0
B99: Total D | F99: =SUM(F62:F98) -> 0
B101: E.Electrical Work
B103: Point Wiring: Point wiring rates are inclusive of 2X2.5 sq mm FRLS PVC insulated stranded copper conductor wires for circuit and 1.5 sq mm FRLS PVC insulated copper conductor insulated earth wire.
A104: E1 | B104: Supply, Wiring, Testing & Commissioning for switch board controlled light points with 3 X 1.5sq.mm FRLS PVC insulated copper wire and earthing with 1.5 sq.mm. FRLS PVC insulated copper wire in insurface / recessed Medium class FRLS PVC conduit, surface tee, saddles,conduit fixing material, MS Connector, including providing & fixing of modular switches as specified complete with modular plate with GI boxes of suitable as complete as required.
A105: E1.1 | B105: First Point (One point controlled by one no. 6 amps switch.) (Normal Light Point) | C105: Nos | D105: ='Measurement Sheet'!G926 -> 34 | F105: =D105*E105 -> 0
A106: E1.2 | B106: same as the above for Looping Point | C106: Nos | D106: ='Measurement Sheet'!G933 -> 80 | F106: =D106*E106 -> 0
A107: E2 | B107: Supply, Wiring, Testing & Commissioning for MCB controlled light points with 2 x 2.5 + 1 X 1.5 sq.mm FRLS PVC insulated copper wires in recessed / surface mounted in in insurface / recessed Medium class FRLS PVC conduit, surface tee, saddles, conduit fixing material, MS Connector, along with all required fittings. (Cost of MCB not to be included)
A108: E2.1 | B108: First Point (First light points controlled by one no.6A SP MCB) | C108: Nos | D108: ='Measurement Sheet'!G942 -> 9 | F108: =D108*E108 -> 0
A109: E2.2 | B109: same as above for the Looping Point | C109: Nos | D109: ='Measurement Sheet'!G949 -> 16 | F109: =D109*E109 -> 0
A110: E3 | B110: Supply, Wiring, Testing & Commissioning for 6 A multistandard shutterd switched socket outlet with 3 x 1.5 sq mm FRLS PVC insulated copper wire & earthing with 1.5 sq.mm FRLS PVC insulated copper wire in surface / recessed Medium class FRLS PVC conduit, surface tee, saddles,conduit fixing material, MS Connector, including providing & fixing of 6amps modular switch, socket complete with modular plate with suitable size of GI box complete in all respect. | C110: Nos | D110: ='Measurement Sheet'!G956 -> 23 | F110: =D110*E110 -> 0
A111: E4 | B111: Supply, Wiring, Testing & Commissioning for 1 nos, 16 A shuttered, switched socket outlets with 2 x4 +1 x 2.5 sq.mm FRLS PVC insulated copper wire & earthing with 2.5 sq.mm FRLS PVC insulated copper wire in surface / recessed Medium class FRLS PVC conduit, including providing & fixing of 1 nos. of 16amps modular switched socket outlets alongwith 1nos 16 A switch with modular plate with GI box complete. | C111: Pt. | D111: ='Measurement Sheet'!G963 -> 12 | F111: =D111*E111 -> 0
A112: E5 | B112: Supply and wiring of exhaust fan point with 3 X 1.5 sq.mm FRLS PVC insulated copper conductor cable in in surface / recessed GI conduit, fixing on surface or wall/ceiling including fixing of saddles etc. including galvanised M.S. box, modular range of plate switches, 6A socket, modular cover plate, PVC insulated copper earth wire etc. complete as required. | C112: Nos | D112: ='Measurement Sheet'!G970 -> 31 | F112: =D112*E112 -> 0
A113: E6 | B113: Providing and fixing in position the following FRLS PVC conduits including all accessories concealed in F. ceiling (PVC conduit not to be installed above false ceiling) /waif/ floor as required including M.S. junction or pull boxes with 3mm thick perspex sheet cover plate complete with 1.6 mm dia G.I. pull wires in the length of conduit.
A114: E6.1 | B114: 20 mm dia conduit ( 1.6 mm thick) | C114: rmt | D114: ='Measurement Sheet'!G974 -> 100 | F114: =D114*E114 -> 0
A115: E6.2 | B115: 25 mm dia conduit (1.6 mm thick) | C115: rmt | D115: ='Measurement Sheet'!G975 -> 250 | F115: =D115*E115 -> 0
A116: E6.3 | B116: 32 mm dia conduit (2.0 mm thick) | C116: rmt | D116: ='Measurement Sheet'!G976 -> 200 | F116: =D116*E116 -> 0
A117: E7 | B117: Supply,installing ,connecting testing and commissioning of the following double door 1/4 rows vertical type 1.6 mm thick and 1. 4 thick door sheet steel enclosed fully recessed type, TPN Miniature Circuit Breakers Distribution Boards dust proof, verm-in proof, with hinged and lockable doors complete with DP MCB's and inter- connection with copper wire , insulated copper bus bar , cable glands-/conduit entry bushes, bonding to earth and paint-ing. Also provide separate neutral: busbar for each phase. Provide separate ,Earth Links for each phase. Use brass thimbles for connections of all: wires. 1 row for single phase and 4 rows for 3 phase. Provide separate 4 way 63 A main neutral link also. The phase busbar links shall be factory pre insulated.
A118: E7.1 | B118: 10 Way TPN DB, each phase consisting of 8 Nos. 10/20 AMP SP MCB's and controlled by one number 100 mA sensitivity 63 AMPS DP ELCB backed up with 1 no 63 Amps 4 pole MCB. | C118: nos | D118: ='Measurement Sheet'!G980 -> 3 | F118: =D118*E118 -> 0
...

Sheet Measurement Sheet
A1: LSS_Take of Sheet_Renovation of GD_Phase 2 (Winter)_16.10.2026
A2: S.N0 | B2: =Abstract!B9 -> Item Description | C2: Nos | D2: L | E2: W | F2: H/D | G2: Qty. | H2: Unit
B4: =Abstract!B11 -> A.Dismantling & Demolishing
A6: =Abstract!A13 -> A1 | B6: =Abstract!B13 -> Demolishing cement concrete manually/ by mechanical means including disposal of material within 50 metres lead as per direction of Engineer - in - charge.
B8: Outer Loo | D8: 4.959 | E8: 8.609 | F8: 0.1 | G8: =D8*E8*F8 -> 4.2692031 | H8: cum
B10: OGD
B11: Lower Ground Floor | C11: 1 | D11: 5 | E11: 4.64 | F11: 0.1 | G11: =C11*D11*E11*F11 -> 2.32 | H11: cum
B12: Upper Ground Floor
B13: Bath | C13: 1 | D13: 3.305 | E13: 3.19 | F13: 0.1 | G13: =C13*D13*E13*F13 -> 1.054295 | H13: cum
B14: Toilet | C14: 1 | D14: 3.305 | E14: 3.205 | F14: 0.1 | G14: =C14*D14*E14*F14 -> 1.0592525 | H14: cum
B15: Toilet | C15: 1 | D15: 2.495 | E15: 1.485 | F15: 0.1 | G15: =C15*D15*E15*F15 -> 0.3705075 | H15: cum
B16: First Floor
B17: Bath | C17: 1 | D17: 3.305 | E17: 3.19 | F17: 0.1 | G17: =C17*D17*E17*F17 -> 1.054295 | H17: cum
B18: Toilet | C18: 1 | D18: 3.305 | E18: 3.205 | F18: 0.1 | G18: =C18*D18*E18*F18 -> 1.0592525 | H18: cum
B19: Toilet | C19: 2 | D19: 2.495 | E19: 1.485 | F19: 0.1 | G19: =C19*D19*E19*F19 -> 0.741015 | H19: cum
B21: At different location as per structure demand | G21: 3.07 | H21: cum
B23: Total | G23: =SUM(G8:G22) -> 14.997821 | H23: cum
A25: =Abstract!A14 -> A2 | B25: =Abstract!B14 -> Dismantling tile work in floors and roofs laid in cement mortar including stacking material within 50 metres lead. For thickness of tiles 10 mm to 25 mm
B27: Outer Loo | D27: 4.959 | E27: 8.609 | G27: =D27*E27 -> 42.692031 | H27: sqm
B29: OGD
B30: Lower Ground Floor | C30: 1 | D30: 5 | E30: 4.64 | F30: 0.1 | G30: =C30*D30*E30*F30 -> 2.32 | H30: cum
B31: Upper Ground Floor
B32: Bath | C32: 1 | D32: 3.305 | E32: 3.19 | F32: 0.1 | G32: =C32*D32*E32*F32 -> 1.054295 | H32: cum
B33: Toilet | C33: 1 | D33: 3.305 | E33: 3.205 | F33: 0.1 | G33: =C33*D33*E33*F33 -> 1.0592525 | H33: cum
B34: Toilet | C34: 1 | D34: 2.495 | E34: 1.485 | F34: 0.1 | G34: =C34*D34*E34*F34 -> 0.3705075 | H34: cum
B35: First Floor
B36: Bath | C36: 1 | D36: 3.305 | E36: 3.19 | F36: 0.1 | G36: =C36*D36*E36*F36 -> 1.054295 | H36: cum
B37: Toilet | C37: 1 | D37: 3.305 | E37: 3.205 | F37: 0.1 | G37: =C37*D37*E37*F37 -> 1.0592525 | H37: cum
B38: Toilet | C38: 2 | D38: 2.495 | E38: 1.485 | F38: 0.1 | G38: =C38*D38*E38*F38 -> 0.741015 | H38: cum
B40: At different location as per structure demand | G40: 4.65 | H40: sqm
B42: Total | G42: =SUM(G27:G41) -> 55.000649 | H42: sqm
A44: =Abstract!A15 -> A3 | B44: =Abstract!B15 -> Demolishing R.C.C. work manually/ by mechanical means including stacking of steel bars and disposal of unserviceable material within 50 metres lead as per direction of Engineer - in- charge.
B46: At different location as per structure demand | G46: 2 | H46: cum
A48: =Abstract!A16 -> A4 | B48: =Abstract!B16 -> Dismantling roofing including ridges, hips, valleys and gutters etc., and stacking the material within 50 metres lead of: G.S. Sheet
B50: Outer Loo | D50: 10.6 | E50: 7.405 | G50: =D50*E50 -> 78.493 | H50: sqm
B52: At different location as per structure demand | G52: 21.51 | H52: sqm
B54: Total | G54: =SUM(G50:G53) -> 100.003 | H54: sqm
A56: =Abstract!A17 -> A5 | B56: =Abstract!B17 -> Demolishing brick work manually/ by mechanical means including stacking of serviceable material and disposal of unserviceable material within 50 metres lead as per direction of Engineer-in-charge. In cement mortar
B58: Outer Loo
B59: 1 | C59: 1 | D59: 8.6 | E59: 0.25 | F59: 2.4 | G59: =C59*D59*E59*F59 -> 5.16 | H59: cum
B60: 2 | C60: 1 | D60: 5.92 | E60: 0.25 | F60: 2.4 | G60: =C60*D60*E60*F60 -> 3.552 | H60: cum
B61: 3 | C61: 4 | D61: 1.44 | E61: 0.205 | F61: 2.4 | G61: =C61*D61*E61*F61 -> 2.83392 | H61: cum
B62: 4 | C62: 5 | D62: 1.45 | E62: 0.22 | F62: 2.4 | G62: =C62*D62*E62*F62 -> 3.828 | H62: cum
B64: OGD
B65: Lower Ground Floor
B66: Wall 1 | C66: 3 | D66: 1.385 | E66: 0.115 | F66: 3 | G66: =C66*D66*E66*F66 -> 1.433475 | H66: cum
B67: Wall 2 | C67: 1 | D67: 3.805 | E67: 0.115 | F67: 3 | G67: =C67*D67*E67*F67 -> 1.312725 | H67: cum
B68: Wall 3 | C68: 3 | D68: 1.24 | E68: 0.115 | F68: 3 | G68: =C68*D68*E68*F68 -> 1.2834 | H68: cum
B69: Wall 4 | C69: 1 | D69: 5 | E69: 0.115 | F69: 3 | G69: =C69*D69*E69*F69 -> 1.725 | H69: cum
B71: Upper Ground Floor
B72: Bath
B73: Wall 1 | C73: 2 | D73: 0.97 | E73: 0.115 | F73: 3 | G73: =C73*D73*E73*F73 -> 0.6693 | H73: cum
B74: Wall 2 | C74: 1 | D74: 1.23 | E74: 0.12 | F74: 3 | G74: =C74*D74*E74*F74 -> 0.4428 | H74: cum
B75: Toilet
B76: Wall 1 | C76: 3 | D76: 0.97 | E76: 0.115 | F76: 3 | G76: =C76*D76*E76*F76 -> 1.00395 | H76: cum
B77: Wall 2 | C77: 1 | D77: 1.48 | E77: 0.115 | F77: 3 | G77: =C77*D77*E77*F77 -> 0.5106 | H77: cum
B78: Wall 3 | C78: 1 | D78: 3.51 | E78: 0.115 | F78: 3 | G78: =C78*D78*E78*F78 -> 1.21095 | H78: cum
B80: First Floor
B81: Bath
B82: Wall 1 | C82: 2 | D82: 0.97 | E82: 0.115 | F82: 3 | G82: =C82*D82*E82*F82 -> 0.6693 | H82: cum
B83: Wall 2 | C83: 1 | D83: 1.23 | E83: 0.12 | F83: 3 | G83: =C83*D83*E83*F83 -> 0.4428 | H83: cum
B84: Toilet
B85: Wall 1 | C85: 3 | D85: 0.97 | E85: 0.115 | F85: 3 | G85: =C85*D85*E85*F85 -> 1.00395 | H85: cum
B86: Wall 2 | C86: 1 | D86: 1.48 | E86: 0.115 | F86: 3 | G86: =C86*D86*E86*F86 -> 0.5106 | H86: cum
B87: Wall 3 | C87: 1 | D87: 3.51 | E87: 0.115 | F87: 3 | G87: =C87*D87*E87*F87 -> 1.21095 | H87: cum
B89: Honoria Court Façade | C89: 7 | D89: 2.85 | E89: 0.23 | F89: 5.55 | G89: =C89*D89*E89*F89 -> 25.466175 | H89: cum
B91: Total (a) | G91: =SUM(G59:G89) -> 54.269895 | H91: cum
B93: Deduction
B95: Honoria Court Façade
B96: Window 1 | C96: 28 | D96: 0.98 | E96: 0.23 | F96: 1.76 | G96: =C96*D96*E96*F96 -> 11.107712 | H96: cum
B98: OGD
B99: Door 1 | C99: 7 | D99: 0.6 | E99: 0.12 | F99: 2.1 | G99: =C99*D99*E99*F99 -> 1.0584 | H99: cum
B100: Door 2 | C100: 4 | D100: 0.6 | E100: 0.12 | F100: 2.1 | G100: =C100*D100*E100*F100 -> 0.6048 | H100: cum
B101: Door 3 | C101: 4 | D101: 0.6 | E101: 0.12 | F101: 2.1 | G101: =C101*D101*E101*F101 -> 0.6048 | H101: cum
B103: Total (b) | G103: =SUM(G96:G101) -> 13.375712 | H103: cum
B105: Total (a-b) | G105: =G91-G103 -> 40.894183 | H105: cum
B107: At different location as per structure demand | G107: 9.11 | H107: cum
B109: Total | G109: =SUM(G105:G108) -> 50.004183 | H109: cum
A111: =Abstract!A18 -> A6 | B111: =Abstract!B18 -> Dismantling of flushing cistern of all types (C.I./PVC/Vitrious China) including stacking of useful materials near the site and disposal of unserviceable materials within 50 metres lead.
B113: Outer Loo | C113: 10 | G113: =C113 -> 10 | H113: Nos
B114: OGD | C114: 8 | G114: =C114 -> 8 | H114: Nos
B116: Total | G116: =SUM(G113:G115) -> 18 | H116: Nos
A118: =Abstract!A19 -> A7 | B118: =Abstract!B19 -> Dismantling old plaster or skirting raking out joints and cleaning the surface for plaster including disposal of rubbish to the dumping ground within 50 metres lead.
B120: Outer Loo
B121: Wall 1 | D121: 4.96 | E121: 3.01 | G121: 58.59 | H121: sqm
B122: Wall 2 | D122: 8.61 | E122: 2.4 | G122: =D122*E122 -> 20.664 | H122: sqm
B123: Wall 3 | D123: 4.96 | E123: 3.01 | G123: =D123*E123 -> 14.9296 | H123: sqm
B124: Wall 4 | D124: 8.61 | E124: 2.4 | G124: =D124*E124 -> 20.664 | H124: sqm
B126: OGD
B127: Lower Ground Floor
B128: Wall 1 | C128: 2 | D128: 5 | E128: 3 | G128: =D128*E128 -> 15 | H128: sqm
B129: Wall 2 | C129: 2 | D129: 4.64 | E129: 3 | G129: =D129*E129 -> 13.92 | H129: sqm
B131: Upper Ground Floor
B132: Bath
B133: Wall 1 | D133: 4.11 | E133: 3 | G133: =D133*E133 -> 12.33 | H133: sqm
B134: Wall 2 | D134: 3.305 | E134: 3 | G134: =D134*E134 -> 9.915 | H134: sqm
B135: Wall 3 | D135: 0.845 | E135: 3 | G135: =D135*E135 -> 2.535 | H135: sqm
B136: Wall 4 | D136: 0.5 | E136: 3 | G136: =D136*E136 -> 1.5 | H136: sqm
B137: Wall 5 | D137: 1.74 | E137: 3 | G137: =D137*E137 -> 5.22 | H137: sqm
B138: Wall 6 | D138: 3.21 | E138: 3 | G138: =D138*E138 -> 9.63 | H138: sqm
...
